BEGIN:VCALENDAR
VERSION:2.0
PRODID:-//ChamberMaster//Event Calendar 2.0//EN
METHOD:PUBLISH
X-PUBLISHED-TTL:P3D
REFRESH-INTERVAL:P3D
CALSCALE:GREGORIAN
BEGIN:VEVENT
DTSTART:20151203T223000Z
DTEND:20151203T230000Z
X-MICROSOFT-CDO-ALLDAYEVENT:FALSE
SUMMARY:Ribbon Cutting- Joy In the Cause
DESCRIPTION:Please join us for a Ribbon Cutting as we welcome Joy In the Cause to the Bixby Metro Chamber of Commerce.
X-ALT-DESC;FMTTYPE=text/html:Please join us for a Ribbon Cutting as we welcome Joy In the Cause to the Bixby Metro Chamber of Commerce.
LOCATION:Joy In the Cause 3939 South Harvard Avenue Suite 185 Tulsa\, OK 74135
UID:e.1611.1657
SEQUENCE:3
DTSTAMP:20260419T194005Z
URL:https://portal.bixbychamber.com/events/details/ribbon-cutting-joy-in-the-cause-12-03-2015-1657
END:VEVENT

END:VCALENDAR
