BEGIN:VCALENDAR
VERSION:2.0
PRODID:-//ChamberMaster//Event Calendar 2.0//EN
METHOD:PUBLISH
X-PUBLISHED-TTL:P3D
REFRESH-INTERVAL:P3D
CALSCALE:GREGORIAN
BEGIN:VEVENT
DTSTART:20160505T213000Z
DTEND:20160505T220000Z
X-MICROSOFT-CDO-ALLDAYEVENT:FALSE
SUMMARY:Ribbon Cutting: Jolley Chiropractic
DESCRIPTION:Please join us in welcoming Jolley Chiropractic and Wellness Practice to the Bixby Metro Chamber with a Ribbon Cutting.
X-ALT-DESC;FMTTYPE=text/html:Please join us in welcoming Jolley Chiropractic and Wellness Practice to the Bixby Metro Chamber with a Ribbon Cutting.
LOCATION:Jolley Chiropractic and Wellness Practice 12345 South Memorial Suite 111 Bixby\, OK 74008
UID:e.1611.2796
SEQUENCE:3
DTSTAMP:20260419T131651Z
URL:https://portal.bixbychamber.com/events/details/ribbon-cutting-jolley-chiropractic-05-05-2016-2796
END:VEVENT

END:VCALENDAR
