BEGIN:VCALENDAR
VERSION:2.0
PRODID:-//ChamberMaster//Event Calendar 2.0//EN
METHOD:PUBLISH
X-PUBLISHED-TTL:P3D
REFRESH-INTERVAL:P3D
CALSCALE:GREGORIAN
BEGIN:VEVENT
DTSTART:20160224T160000Z
DTEND:20160224T163000Z
X-MICROSOFT-CDO-ALLDAYEVENT:FALSE
SUMMARY:Ribbon Cutting: Jimmy's Egg
DESCRIPTION:Please join us for a Ribbon Cutting welcome Jimmy's Egg to the Bixby Metro Chamber of Commerce and the community.
X-ALT-DESC;FMTTYPE=text/html:Please join us for a Ribbon Cutting welcome Jimmy&#39\;s Egg to the Bixby Metro Chamber of Commerce and the community.&nbsp\;
LOCATION:Jimmy's Egg 11982 South Memorial Drive Bixby\, OK 74008
UID:e.1611.2773
SEQUENCE:3
DTSTAMP:20260419T182240Z
URL:https://portal.bixbychamber.com/events/details/ribbon-cutting-jimmy-s-egg-02-24-2016-2773
END:VEVENT

END:VCALENDAR
