BEGIN:VCALENDAR
VERSION:2.0
PRODID:-//ChamberMaster//Event Calendar 2.0//EN
METHOD:PUBLISH
X-PUBLISHED-TTL:P3D
REFRESH-INTERVAL:P3D
CALSCALE:GREGORIAN
BEGIN:VEVENT
DTSTART:20150827T210000Z
DTEND:20150827T213000Z
X-MICROSOFT-CDO-ALLDAYEVENT:FALSE
SUMMARY:Ribbon Cutting- Jackie Cooper Imports- Sharyn Willard
DESCRIPTION:Please join us for a Ribbon Cutting welcoming Jackie Cooper Imports- Sharyn Willard to the Bixby Metro Chamber of Commerce family.
X-ALT-DESC;FMTTYPE=text/html:Please join us for a Ribbon Cutting welcoming Jackie Cooper Imports- Sharyn&nbsp\;Willard to the Bixby Metro Chamber of Commerce family.
LOCATION:Jackie Cooper Imports- Sharyn Willard 9393 South Memorial Drive Tulsa\, OK 74133
UID:e.1611.1647
SEQUENCE:3
DTSTAMP:20260420T022347Z
URL:https://portal.bixbychamber.com/events/details/ribbon-cutting-jackie-cooper-imports-sharyn-willard-08-27-2015-1647
END:VEVENT

END:VCALENDAR
