BEGIN:VCALENDAR
VERSION:2.0
PRODID:-//ChamberMaster//Event Calendar 2.0//EN
METHOD:PUBLISH
X-PUBLISHED-TTL:P3D
REFRESH-INTERVAL:P3D
CALSCALE:GREGORIAN
BEGIN:VEVENT
DTSTART:20151119T223000Z
DTEND:20151119T230000Z
X-MICROSOFT-CDO-ALLDAYEVENT:FALSE
SUMMARY:Ribbon Cutting- J.Miller Law Frim
DESCRIPTION:Please join us for a Ribbon Cutting welcoming J. Miller Law Firm to the Bixby Metro Chamber of Commerce
X-ALT-DESC;FMTTYPE=text/html:Please join us for a Ribbon Cutting welcoming J. Miller Law Firm to the Bixby Metro Chamber of Commerce
LOCATION:J. Miller Law Firm 7633 East 63rd Place Suite 300 Tulsa\, OK 74133
UID:e.1611.1674
SEQUENCE:3
DTSTAMP:20260419T223334Z
URL:https://portal.bixbychamber.com/events/details/ribbon-cutting-j-miller-law-frim-11-19-2015-1674
END:VEVENT

END:VCALENDAR
