BEGIN:VCALENDAR
VERSION:2.0
PRODID:-//ChamberMaster//Event Calendar 2.0//EN
METHOD:PUBLISH
X-PUBLISHED-TTL:P3D
REFRESH-INTERVAL:P3D
CALSCALE:GREGORIAN
BEGIN:VEVENT
DTSTART:20160119T150000Z
DTEND:20160119T153000Z
X-MICROSOFT-CDO-ALLDAYEVENT:FALSE
SUMMARY:Ribbon Cutting: IHOP
DESCRIPTION:Join us for a Ribbon Cutting as we welcome IHOP to the Bixby Metro Chamber of Commerce.
X-ALT-DESC;FMTTYPE=text/html:Join us for a Ribbon Cutting as we welcome IHOP to the Bixby Metro Chamber of Commerce.
LOCATION:IHOP 8222 South 103rd Street South Suite 100 Tulsa\, OK 74133
UID:e.1611.2751
SEQUENCE:3
DTSTAMP:20260419T182242Z
URL:https://portal.bixbychamber.com/events/details/ribbon-cutting-ihop-01-19-2016-2751
END:VEVENT

END:VCALENDAR
