BEGIN:VCALENDAR
VERSION:2.0
PRODID:-//ChamberMaster//Event Calendar 2.0//EN
METHOD:PUBLISH
X-PUBLISHED-TTL:P3D
REFRESH-INTERVAL:P3D
CALSCALE:GREGORIAN
BEGIN:VEVENT
DTSTART:20160204T223000Z
DTEND:20160204T230000Z
X-MICROSOFT-CDO-ALLDAYEVENT:FALSE
SUMMARY:Ribbon Cutting: Hot Coffey Designs
DESCRIPTION:Please join us for a Ribbon Cutting welcoming Hot Coffey Designs to the Bixby Metro Chamber of Commerce.
X-ALT-DESC;FMTTYPE=text/html:Please join us for a Ribbon Cutting welcoming Hot Coffey Designs to the Bixby Metro Chamber of Commerce.
LOCATION:Hot Coffey Design 12345 South Memorial Drive Suite 118 Bixby\, OK 74008
UID:e.1611.2752
SEQUENCE:3
DTSTAMP:20260419T182315Z
URL:https://portal.bixbychamber.com/events/details/ribbon-cutting-hot-coffey-designs-02-04-2016-2752
END:VEVENT

END:VCALENDAR
