BEGIN:VCALENDAR
VERSION:2.0
PRODID:-//ChamberMaster//Event Calendar 2.0//EN
METHOD:PUBLISH
X-PUBLISHED-TTL:P3D
REFRESH-INTERVAL:P3D
CALSCALE:GREGORIAN
BEGIN:VEVENT
DTSTART:20130919T213000Z
DTEND:20130919T220000Z
X-MICROSOFT-CDO-ALLDAYEVENT:FALSE
SUMMARY:Ribbon Cutting- HeARTsong Creative Center
DESCRIPTION:Ribbon Cutting Ceremony for HeARTsong Creative Center\n\n\n\nRefreshments....lemonade\, popcorn\, and cookies!
X-ALT-DESC;FMTTYPE=text/html:Ribbon Cutting Ceremony for HeARTsong Creative Center<br />\n<br />\n<strong>Refreshments....</strong>lemonade\, popcorn\, and cookies!<br />\n
LOCATION:HeartSong Creative 125 West Needles Avenue Bixby Ok\, 74008
UID:e.1611.691
SEQUENCE:3
DTSTAMP:20260421T074843Z
URL:https://portal.bixbychamber.com/events/details/ribbon-cutting-heartsong-creative-center-09-19-2013-691
END:VEVENT

END:VCALENDAR
