BEGIN:VCALENDAR
VERSION:2.0
PRODID:-//ChamberMaster//Event Calendar 2.0//EN
METHOD:PUBLISH
X-PUBLISHED-TTL:P3D
REFRESH-INTERVAL:P3D
CALSCALE:GREGORIAN
BEGIN:VEVENT
DTSTART:20160128T223000Z
DTEND:20160128T230000Z
X-MICROSOFT-CDO-ALLDAYEVENT:FALSE
SUMMARY:Ribbon Cutting: Hard Knocks Laser Tag
DESCRIPTION:Please join us for a Ribbon Cutting as we welcome Hard Knock Laser Tag to the Bixby Metro Chamber of Commerce.
X-ALT-DESC;FMTTYPE=text/html:Please join us for a Ribbon Cutting as we welcome Hard Knock Laser Tag to the Bixby Metro Chamber of Commerce.&nbsp\;&nbsp\;&nbsp\;&nbsp\;&nbsp\;&nbsp\;&nbsp\;&nbsp\;
LOCATION:Hard Knocks Laser Tag 6808 South Memorial Drive Suite 128 Tulsa\, OK 74133
UID:e.1611.2765
SEQUENCE:3
DTSTAMP:20260419T182737Z
URL:https://portal.bixbychamber.com/events/details/ribbon-cutting-hard-knocks-laser-tag-01-28-2016-2765
END:VEVENT

END:VCALENDAR
