BEGIN:VCALENDAR
VERSION:2.0
PRODID:-//ChamberMaster//Event Calendar 2.0//EN
METHOD:PUBLISH
X-PUBLISHED-TTL:P3D
REFRESH-INTERVAL:P3D
CALSCALE:GREGORIAN
BEGIN:VEVENT
DTSTART:20130917T213000Z
DTEND:20130917T220000Z
X-MICROSOFT-CDO-ALLDAYEVENT:FALSE
SUMMARY:Ribbon Cutting- Friend of Irving Foudation
DESCRIPTION:Ribbon Cutting Ceremony for Friends of Irving Foundation
X-ALT-DESC;FMTTYPE=text/html:<span style="font-size:12px\;"><span style="font-family:arial\;"><span style="color: rgb(0\, 0\, 0)\; line-height: 37px\;">Ribbon Cutting Ceremony for Friends of Irving Foundation</span></span></span><br />\n<br />\n
LOCATION:Washington Irving Memorial Park and Arboretum 13700 South Memorial Drive Bixby\, OK 74008
UID:e.1611.689
SEQUENCE:3
DTSTAMP:20260421T075044Z
URL:https://portal.bixbychamber.com/events/details/ribbon-cutting-friend-of-irving-foudation-09-17-2013-689
END:VEVENT

END:VCALENDAR
