BEGIN:VCALENDAR
VERSION:2.0
PRODID:-//ChamberMaster//Event Calendar 2.0//EN
METHOD:PUBLISH
X-PUBLISHED-TTL:P3D
REFRESH-INTERVAL:P3D
CALSCALE:GREGORIAN
BEGIN:VEVENT
DTSTART:20150302T160000Z
DTEND:20150303T043000Z
X-MICROSOFT-CDO-ALLDAYEVENT:FALSE
SUMMARY:Ribbon Cutting- Freddy's Frozen Custard & Steakburgers
DESCRIPTION:Please join us for a Ribbon Cutting and Grand Opening for Freddy's Frozen Custard & Steakburgers.
X-ALT-DESC;FMTTYPE=text/html:<span style="font-size:12px\;"><span style="font-family:arial\;">Please join us for a Ribbon Cutting and Grand Opening for Freddy&#39\;s Frozen Custard &amp\; Steakburgers.</span></span>
LOCATION:Freddy's Frozen Custard & Steakburgers 10305 South Memorial Drive Tulsa\, OK 74133
UID:e.1611.1559
SEQUENCE:3
DTSTAMP:20260420T082503Z
URL:https://portal.bixbychamber.com/events/details/ribbon-cutting-freddy-s-frozen-custard-steakburgers-03-02-2015-1559
END:VEVENT

END:VCALENDAR
