BEGIN:VCALENDAR
VERSION:2.0
PRODID:-//ChamberMaster//Event Calendar 2.0//EN
METHOD:PUBLISH
X-PUBLISHED-TTL:P3D
REFRESH-INTERVAL:P3D
CALSCALE:GREGORIAN
BEGIN:VEVENT
DTSTART:20160107T223000Z
DTEND:20160107T230000Z
X-MICROSOFT-CDO-ALLDAYEVENT:FALSE
SUMMARY:Ribbon Cutting- Fast Fitness Super Training Studios
DESCRIPTION:Please join us for a Ribbon Cutting as we welcome Fast Fitness Super Training Studios to the Bixby Metro Chamber of Commerce family.
X-ALT-DESC;FMTTYPE=text/html:Please join us for a Ribbon Cutting as we welcome Fast Fitness Super Training&nbsp\;Studios to the Bixby Metro Chamber of Commerce family.
LOCATION:Fast Fitness Training Super Studios 9999 South Mingo Suite H Tulsa\, OK 74133
UID:e.1611.1699
SEQUENCE:3
DTSTAMP:20260419T193918Z
URL:https://portal.bixbychamber.com/events/details/ribbon-cutting-fast-fitness-super-training-studios-01-07-2016-1699
END:VEVENT

END:VCALENDAR
