BEGIN:VCALENDAR
VERSION:2.0
PRODID:-//ChamberMaster//Event Calendar 2.0//EN
METHOD:PUBLISH
X-PUBLISHED-TTL:P3D
REFRESH-INTERVAL:P3D
CALSCALE:GREGORIAN
BEGIN:VEVENT
DTSTART:20150604T203000Z
DTEND:20150604T210000Z
X-MICROSOFT-CDO-ALLDAYEVENT:FALSE
SUMMARY:Ribbon Cutting- Fairfield Inn Woodland Hills
DESCRIPTION:Please join us for a Ribbon Cutting as we welcome Fairfield Inn and Suite- Woodland Hills to the Bixby Metro Chamber of Commerce.
X-ALT-DESC;FMTTYPE=text/html:Please join us for a Ribbon Cutting as we welcome Fairfield Inn and Suite- Woodland Hills to the Bixby Metro Chamber of Commerce.
LOCATION:Fairfield Inn and Suites- Woodland Hills 9020 East 71st Street Tulsa\, OK 74133
UID:e.1611.1622
SEQUENCE:3
DTSTAMP:20260420T035050Z
URL:https://portal.bixbychamber.com/events/details/ribbon-cutting-fairfield-inn-woodland-hills-06-04-2015-1622
END:VEVENT

END:VCALENDAR
