BEGIN:VCALENDAR
VERSION:2.0
PRODID:-//ChamberMaster//Event Calendar 2.0//EN
METHOD:PUBLISH
X-PUBLISHED-TTL:P3D
REFRESH-INTERVAL:P3D
CALSCALE:GREGORIAN
BEGIN:VEVENT
DTSTART:20160218T223000Z
DTEND:20160218T230000Z
X-MICROSOFT-CDO-ALLDAYEVENT:FALSE
SUMMARY:Ribbon Cutting- Elizabeth King Consulting
DESCRIPTION:Please join us as we welcome Elizabeth King Consulting to the Bixby Metro Chamber of Commerce family.
X-ALT-DESC;FMTTYPE=text/html:Please join us as we welcome Elizabeth King Consulting to the Bixby Metro Chamber of Commerce family.
LOCATION:Bixby Metro Chamber of Commerce 10441 South Regal Boulevard Suite 104 Tulsa\,OK 74133
UID:e.1611.2724
SEQUENCE:3
DTSTAMP:20260419T171143Z
URL:https://portal.bixbychamber.com/events/details/ribbon-cutting-elizabeth-king-consulting-02-18-2016-2724
END:VEVENT

END:VCALENDAR
