BEGIN:VCALENDAR
VERSION:2.0
PRODID:-//ChamberMaster//Event Calendar 2.0//EN
METHOD:PUBLISH
X-PUBLISHED-TTL:P3D
REFRESH-INTERVAL:P3D
CALSCALE:GREGORIAN
BEGIN:VEVENT
DTSTART:20160630T213000Z
DTEND:20160630T220000Z
X-MICROSOFT-CDO-ALLDAYEVENT:FALSE
SUMMARY:Ribbon Cutting: Edward Jones: Rich Keel\, Financial Advisor
DESCRIPTION:Please join us for a Ribbon Cutting as we welcome Edward Jones: Rich Keel\, Financial Advisor to the Bixby Metro Chamber of Commerce.
X-ALT-DESC;FMTTYPE=text/html:Please join us for a Ribbon Cutting as we welcome Edward Jones: Rich Keel\, Financial Advisor to the Bixby Metro Chamber of Commerce.
LOCATION:Edward Jones- Rich Keel 13330 South Memorial Drive Suite 2 Bixby\, OK 74008
UID:e.1611.3357
SEQUENCE:3
DTSTAMP:20260419T120147Z
URL:https://portal.bixbychamber.com/events/details/ribbon-cutting-edward-jones-rich-keel-financial-advisor-06-30-2016-3357
END:VEVENT

END:VCALENDAR
