BEGIN:VCALENDAR
VERSION:2.0
PRODID:-//ChamberMaster//Event Calendar 2.0//EN
METHOD:PUBLISH
X-PUBLISHED-TTL:P3D
REFRESH-INTERVAL:P3D
CALSCALE:GREGORIAN
BEGIN:VEVENT
DTSTART:20160512T213000Z
DTEND:20160512T220000Z
X-MICROSOFT-CDO-ALLDAYEVENT:FALSE
SUMMARY:Ribbon Cutting: Edward Jones: Larry Cornwell\, Financial Advisor
DESCRIPTION:Please join us for a Ribbon Cutting as we welcome Edward Jones: Larry Cornwell\, Financial Advisor to the Bixby Metro Chamber of Commerce.
X-ALT-DESC;FMTTYPE=text/html:Please join us for a Ribbon Cutting as we welcome Edward Jones: Larry Cornwell\, Financial Advisor to the Bixby Metro Chamber of Commerce.
LOCATION:Edward Jones Larry Cornwell - Financial Advisor 8556 East 101st Street Suite I Tulsa\, OK 74133
UID:e.1611.3273
SEQUENCE:3
DTSTAMP:20260419T132846Z
URL:https://portal.bixbychamber.com/events/details/ribbon-cutting-edward-jones-larry-cornwell-financial-advisor-05-12-2016-3273
END:VEVENT

END:VCALENDAR
