BEGIN:VCALENDAR
VERSION:2.0
PRODID:-//ChamberMaster//Event Calendar 2.0//EN
METHOD:PUBLISH
X-PUBLISHED-TTL:P3D
REFRESH-INTERVAL:P3D
CALSCALE:GREGORIAN
BEGIN:VEVENT
DTSTART:20140605T213000Z
DTEND:20140605T220000Z
X-MICROSOFT-CDO-ALLDAYEVENT:FALSE
SUMMARY:Ribbon Cutting- Edward Jones- Hugh Thompson
DESCRIPTION:Please join us for a Ribbon Cutting as we welcome Edward Jones- Hugh Thompson.
X-ALT-DESC;FMTTYPE=text/html:Please join us for a Ribbon Cutting as we welcome Edward Jones- Hugh Thompson.
LOCATION:Edward Jones - Hugh Thompson 10462 South 82nd East Avenue Suite 104 Tulsa\, OK 74133
UID:e.1611.1356
SEQUENCE:3
DTSTAMP:20260420T200714Z
URL:https://portal.bixbychamber.com/events/details/ribbon-cutting-edward-jones-hugh-thompson-06-05-2014-1356
END:VEVENT

END:VCALENDAR
