BEGIN:VCALENDAR
VERSION:2.0
PRODID:-//ChamberMaster//Event Calendar 2.0//EN
METHOD:PUBLISH
X-PUBLISHED-TTL:P3D
REFRESH-INTERVAL:P3D
CALSCALE:GREGORIAN
BEGIN:VEVENT
DTSTART:20150723T213000Z
DTEND:20150723T220000Z
X-MICROSOFT-CDO-ALLDAYEVENT:FALSE
SUMMARY:Ribbon Cutting- Edward Jones- Beau Driggers\, Financial Advisor
DESCRIPTION:Please join us for a Ribbon Cutting welcoming Edward Jones- Beau Driggers to the Bixby Metro Chamber of Commerce family.
X-ALT-DESC;FMTTYPE=text/html:Please join us for a Ribbon Cutting welcoming Edward Jones- Beau Driggers to the Bixby Metro Chamber of Commerce family.
LOCATION:Edward Jones Beau Driggers - Financial Advisor 2123 South Atlanta Place Suite 201 Tulsa\, OK 74114
UID:e.1611.1605
SEQUENCE:3
DTSTAMP:20260420T034952Z
URL:https://portal.bixbychamber.com/events/details/ribbon-cutting-edward-jones-beau-driggers-financial-advisor-07-23-2015-1605
END:VEVENT

END:VCALENDAR
