BEGIN:VCALENDAR
VERSION:2.0
PRODID:-//ChamberMaster//Event Calendar 2.0//EN
METHOD:PUBLISH
X-PUBLISHED-TTL:P3D
REFRESH-INTERVAL:P3D
CALSCALE:GREGORIAN
BEGIN:VEVENT
DTSTART:20150402T213000Z
DTEND:20150402T220000Z
X-MICROSOFT-CDO-ALLDAYEVENT:FALSE
SUMMARY:Ribbon Cutting- Easton Sod
DESCRIPTION:Please join us for a Ribbon Cutting welcoming Easton Sod to the Bixby Metro Chamber of Commerce.
X-ALT-DESC;FMTTYPE=text/html:Please join us for a Ribbon Cutting welcoming Easton Sod to the Bixby Metro Chamber of Commerce.
LOCATION:Easton Sod Farms\, Inc 12300 South Memorial Bixby\, OK 74008 (918) 369-5850
UID:e.1611.1573
SEQUENCE:3
DTSTAMP:20260420T064443Z
URL:https://portal.bixbychamber.com/events/details/ribbon-cutting-easton-sod-04-02-2015-1573
END:VEVENT

END:VCALENDAR
