BEGIN:VCALENDAR
VERSION:2.0
PRODID:-//ChamberMaster//Event Calendar 2.0//EN
METHOD:PUBLISH
X-PUBLISHED-TTL:P3D
REFRESH-INTERVAL:P3D
CALSCALE:GREGORIAN
BEGIN:VEVENT
DTSTART:20150820T213000Z
DTEND:20150820T220000Z
X-MICROSOFT-CDO-ALLDAYEVENT:FALSE
SUMMARY:Ribbon Cutting- DP's Lawn Care
DESCRIPTION:Please join us as we welcome DP's Lawn Care to the Bixby Metro Chamber of Commerce family.
X-ALT-DESC;FMTTYPE=text/html:Please join us as we welcome DP&#39\;s Lawn Care to the Bixby Metro Chamber of Commerce family.
LOCATION:Bixby Metro Chamber of Commerce 10441 South Regal Boulevard Suite 104 Tulsa\, OK 74112
UID:e.1611.1646
SEQUENCE:3
DTSTAMP:20260420T010453Z
URL:https://portal.bixbychamber.com/events/details/ribbon-cutting-dp-s-lawn-care-08-20-2015-1646
END:VEVENT

END:VCALENDAR
