BEGIN:VCALENDAR
VERSION:2.0
PRODID:-//ChamberMaster//Event Calendar 2.0//EN
METHOD:PUBLISH
X-PUBLISHED-TTL:P3D
REFRESH-INTERVAL:P3D
CALSCALE:GREGORIAN
BEGIN:VEVENT
DTSTART:20160317T213000Z
DTEND:20160317T220000Z
X-MICROSOFT-CDO-ALLDAYEVENT:FALSE
SUMMARY:Ribbon Cutting: Dental Care of Bixby
DESCRIPTION:Please join us as we welcome Dental Care of Bixby to the Bixby Metro Chamber of Commerce.
X-ALT-DESC;FMTTYPE=text/html:Please join us as we welcome Dental Care of Bixby to the Bixby Metro Chamber of Commerce.
LOCATION:Dental Car of Bixby 12106 South Memorial Bixby\, OK 74008
UID:e.1611.3263
SEQUENCE:3
DTSTAMP:20260419T155340Z
URL:https://portal.bixbychamber.com/events/details/ribbon-cutting-dental-care-of-bixby-03-17-2016-3263
END:VEVENT

END:VCALENDAR
