BEGIN:VCALENDAR
VERSION:2.0
PRODID:-//ChamberMaster//Event Calendar 2.0//EN
METHOD:PUBLISH
X-PUBLISHED-TTL:P3D
REFRESH-INTERVAL:P3D
CALSCALE:GREGORIAN
BEGIN:VEVENT
DTSTART:20131212T223000Z
DTEND:20131213T010000Z
X-MICROSOFT-CDO-ALLDAYEVENT:FALSE
SUMMARY:Ribbon Cutting- Decor Construction
DESCRIPTION:Hors d'oeuvres\, Beverages\, Prizes & a Band
X-ALT-DESC;FMTTYPE=text/html:Hors d&#39\;oeuvres\, Beverages\, Prizes &amp\; a Band<br />\n
LOCATION:3023 East 151st Street South Bixby\, OK 74008
UID:e.1611.698
SEQUENCE:3
DTSTAMP:20260421T033533Z
URL:https://portal.bixbychamber.com/events/details/ribbon-cutting-decor-construction-12-12-2013-698
END:VEVENT

END:VCALENDAR
