BEGIN:VCALENDAR
VERSION:2.0
PRODID:-//ChamberMaster//Event Calendar 2.0//EN
METHOD:PUBLISH
X-PUBLISHED-TTL:P3D
REFRESH-INTERVAL:P3D
CALSCALE:GREGORIAN
BEGIN:VEVENT
DTSTART:20150514T213000Z
DTEND:20150514T220000Z
X-MICROSOFT-CDO-ALLDAYEVENT:FALSE
SUMMARY:Ribbon Cutting- Cork
DESCRIPTION:Please join us for a Ribbon Cutting welcoming Cork to the Bixby Metro Chamber of Commerce.
X-ALT-DESC;FMTTYPE=text/html:Please join us for a Ribbon Cutting welcoming Cork to the Bixby Metro Chamber of Commerce.
LOCATION:Cork 8922 S Memorial Drive Suite C-3 Tulsa\, OK 74133
UID:e.1611.1603
SEQUENCE:3
DTSTAMP:20260420T052250Z
URL:https://portal.bixbychamber.com/events/details/ribbon-cutting-cork-05-14-2015-1603
END:VEVENT

END:VCALENDAR
