BEGIN:VCALENDAR
VERSION:2.0
PRODID:-//ChamberMaster//Event Calendar 2.0//EN
METHOD:PUBLISH
X-PUBLISHED-TTL:P3D
REFRESH-INTERVAL:P3D
CALSCALE:GREGORIAN
BEGIN:VEVENT
DTSTART:20150226T223000Z
DTEND:20150226T230000Z
X-MICROSOFT-CDO-ALLDAYEVENT:FALSE
SUMMARY:Ribbon Cutting- Christian Brothers Automotive
DESCRIPTION:Please join us for a Ribbon Cutting as we welcome Christian Brothers Automotive to the Bixby Metro Chamber of Commerce.
X-ALT-DESC;FMTTYPE=text/html:Please join us for a Ribbon Cutting as we welcome Christian Brothers Automotive to the Bixby Metro Chamber of Commerce.
LOCATION:Christian Brothers Automotive 9808 East 81st Street South Tulsa\, OK 74133
UID:e.1611.1557
SEQUENCE:3
DTSTAMP:20260422T084417Z
URL:https://portal.bixbychamber.com/events/details/ribbon-cutting-christian-brothers-automotive-02-26-2015-1557
END:VEVENT

END:VCALENDAR
