BEGIN:VCALENDAR
VERSION:2.0
PRODID:-//ChamberMaster//Event Calendar 2.0//EN
METHOD:PUBLISH
X-PUBLISHED-TTL:P3D
REFRESH-INTERVAL:P3D
CALSCALE:GREGORIAN
BEGIN:VEVENT
DTSTART:20141106T223000Z
DTEND:20141106T233000Z
X-MICROSOFT-CDO-ALLDAYEVENT:FALSE
SUMMARY:Ribbon Cutting- Calico
DESCRIPTION:Please join us for a Ribbon Cutting for Calico
X-ALT-DESC;FMTTYPE=text/html:Please join us for a Ribbon Cutting for Calico
LOCATION:Calico 6014 South Yale Avenue Tulsa\, OK 74135
UID:e.1611.1347
SEQUENCE:3
DTSTAMP:20260420T134246Z
URL:https://portal.bixbychamber.com/events/details/ribbon-cutting-calico-11-06-2014-1347
END:VEVENT

END:VCALENDAR
