BEGIN:VCALENDAR
VERSION:2.0
PRODID:-//ChamberMaster//Event Calendar 2.0//EN
METHOD:PUBLISH
X-PUBLISHED-TTL:P3D
REFRESH-INTERVAL:P3D
CALSCALE:GREGORIAN
BEGIN:VEVENT
DTSTART:20130620T213000Z
DTEND:20130620T220000Z
X-MICROSOFT-CDO-ALLDAYEVENT:FALSE
SUMMARY:Ribbon Cutting- Blue Sky Technology\, Eco Green\, Look Inside Tulsa\, Look Live Better
DESCRIPTION:Come Join us at Michael V's we will be having 4 Ribbon Cuttings.  This will be a great event\, there will be food\, drinks & drawings!\n\n \n\nRibbon Cutting & Contacts:  \n\nBlue Sky Technologies  Victoria & Richard Oltmann\, \n\nLook inside Tulsa\, Jared Buswell\n\nLook live Better (Nerium) George Carradini\n\nEcoGreen Mobile Detailing\, DJ Patterson\n\n\n\nMichael V's Restaurant and Bar\n\nPalazzo Shopping Center\n\n8222 E. 103rd Suite 137\n\nTulsa\, OK 74133
X-ALT-DESC;FMTTYPE=text/html:<span style="font-family:arial\;"><span style="font-size: 12pt\;">Come Join us at Michael V&rsquo\;s we will be having 4 Ribbon Cuttings.&nbsp\; This will be a great event\, there will be food\, drinks &amp\; drawings!</span><br />\n&nbsp\;<br />\n<span style="font-size: 12pt\;">Ribbon Cutting &amp\; Contacts:&nbsp\; </span><br />\n<span style="font-size: 12pt\;">Blue Sky Technologies &ndash\;Victoria &amp\; Richard Oltmann\, </span><br />\n<span style="font-size: 12pt\;">Look inside Tulsa\, Jared Buswell</span><br />\n<span style="font-size: 12pt\;">Look live Better (Nerium) George Carradini</span><br />\n<span style="font-size: 12pt\;">EcoGreen Mobile Detailing\, DJ Patterson</span><br />\n<br />\n<strong><span style="font-size: 9pt\;">Michael V&rsquo\;s Restaurant and Bar</span></strong><br />\n<span style="font-size: 9pt\;">Palazzo Shopping Center<br />\n8222 E. 103rd Suite 137<br />\nTulsa\, OK 74133</span></span><br />\n
LOCATION:
UID:e.1611.652
SEQUENCE:3
DTSTAMP:20260421T115115Z
URL:https://portal.bixbychamber.com/events/details/ribbon-cutting-blue-sky-technology-eco-green-look-inside-tulsa-look-live-better-06-20-2013-652
END:VEVENT

END:VCALENDAR
