BEGIN:VCALENDAR
VERSION:2.0
PRODID:-//ChamberMaster//Event Calendar 2.0//EN
METHOD:PUBLISH
X-PUBLISHED-TTL:P3D
REFRESH-INTERVAL:P3D
CALSCALE:GREGORIAN
BEGIN:VEVENT
DTSTART:20150709T210000Z
DTEND:20150709T213000Z
X-MICROSOFT-CDO-ALLDAYEVENT:FALSE
SUMMARY:Ribbon Cutting- Blink Lash and Blow Dry Bar
DESCRIPTION:Please join us for a Ribbon Cutting as we welcome Blink Lash and Blow Dry Bar to the Bixby Metro Chamber of Commerce.
X-ALT-DESC;FMTTYPE=text/html:Please join us for a Ribbon Cutting as we welcome Blink Lash and Blow Dry Bar to the Bixby Metro Chamber of Commerce.
LOCATION:Blink Lash & Blow Dry Bar 10907 South Memorial Drive Tulsa\, OK 74133
UID:e.1611.1641
SEQUENCE:3
DTSTAMP:20260420T034959Z
URL:https://portal.bixbychamber.com/events/details/ribbon-cutting-blink-lash-and-blow-dry-bar-07-09-2015-1641
END:VEVENT

END:VCALENDAR
