BEGIN:VCALENDAR
VERSION:2.0
PRODID:-//ChamberMaster//Event Calendar 2.0//EN
METHOD:PUBLISH
X-PUBLISHED-TTL:P3D
REFRESH-INTERVAL:P3D
CALSCALE:GREGORIAN
BEGIN:VEVENT
DTSTART:20160519T204500Z
DTEND:20160519T211500Z
X-MICROSOFT-CDO-ALLDAYEVENT:FALSE
SUMMARY:Ribbon Cutting: Aqua Haven
DESCRIPTION:Please join us for a Ribbon Cutting as we welcome Aqua Haven to the Bixby Metro Chamber of Commerce
X-ALT-DESC;FMTTYPE=text/html:Please join us for a Ribbon Cutting as we welcome Aqua Haven to the Bixby Metro Chamber of Commerce
LOCATION:Aqua Haven 11083 South Memorial Drive Tulsa\, OK 74133
UID:e.1611.3311
SEQUENCE:3
DTSTAMP:20260419T144931Z
URL:https://portal.bixbychamber.com/events/details/ribbon-cutting-aqua-haven-05-19-2016-3311
END:VEVENT

END:VCALENDAR
