BEGIN:VCALENDAR
VERSION:2.0
PRODID:-//ChamberMaster//Event Calendar 2.0//EN
METHOD:PUBLISH
X-PUBLISHED-TTL:P3D
REFRESH-INTERVAL:P3D
CALSCALE:GREGORIAN
BEGIN:VEVENT
DTSTART:20210420T170000Z
DTEND:20210420T183000Z
X-MICROSOFT-CDO-ALLDAYEVENT:FALSE
SUMMARY:Pop-Up Networking Lunch
DESCRIPTION:Join the Bixby Metro Chamber for a pop-up networking lunch at Charley Young Event Park! Grab your lunch\, and meet us at 12 to network with other Chamber partners.
X-ALT-DESC;FMTTYPE=text/html:Join the Bixby Metro Chamber for a pop-up networking lunch at Charley Young Event Park! Grab your lunch\, and meet us at 12 to network with other Chamber partners.
LOCATION:Charley Young Event Park 50 W Dawes Bixby\, OK 74008
UID:e.1611.7572
SEQUENCE:3
DTSTAMP:20260421T230223Z
URL:https://portal.bixbychamber.com/events/details/pop-up-networking-lunch-7572
END:VEVENT

END:VCALENDAR
