BEGIN:VCALENDAR
VERSION:2.0
PRODID:-//ChamberMaster//Event Calendar 2.0//EN
METHOD:PUBLISH
X-PUBLISHED-TTL:P3D
REFRESH-INTERVAL:P3D
CALSCALE:GREGORIAN
BEGIN:VEVENT
DTSTART:20160527T160000Z
DTEND:20160527T170000Z
X-MICROSOFT-CDO-ALLDAYEVENT:FALSE
SUMMARY:Pet Supply Drive to Benefit the Tulsa SPCA
DESCRIPTION:Help Us Collect Food Supplies for Needy Pets! Dave & Buster's is proud to announce that we will be hosting our first Pet Supply Drive to benefit the Tulsa SPCA on Friday\, May 27th from 11AM - Close. THE MOBILE ADOPTION CENTER WILL BE ON SITE FROM 11AM - 3PM! Please bring in unopened bags/cans of pet food and supplies to Dave & Buster's located at 71st St and Highway 169 behind Best Buy. When you donate we will give you FREE UNLIMITED VIDEO GAME PLAY with a $10 power card purchase or recharge. And join the party on Facebook: https://www.facebook.com/events/1138901029501429/
X-ALT-DESC;FMTTYPE=text/html:Help Us Collect Food Supplies for Needy Pets! Dave &amp\; Buster&#39\;s is proud to announce that we will be hosting our first Pet Supply Drive to benefit the Tulsa SPCA on Friday\, May 27th from 11AM - Close. THE MOBILE ADOPTION CENTER WILL BE ON SITE FROM 11AM - 3PM! Please bring in unopened bags/cans of pet food and supplies to Dave &amp\; Buster&#39\;s located at 71st St and Highway 169 behind Best Buy. When you donate we will give you FREE UNLIMITED VIDEO GAME PLAY with a $10 power card purchase or recharge. And join the party on Facebook: https://www.facebook.com/events/1138901029501429/
LOCATION:Dave & Buster's (71st St and Hwy 169 behind Best Buy) 6812 S. 105th E. Ave. Tulsa\, OK 74133
UID:e.1611.3318
SEQUENCE:3
DTSTAMP:20260419T132813Z
URL:https://portal.bixbychamber.com/events/details/pet-supply-drive-to-benefit-the-tulsa-spca-05-27-2016-3318
END:VEVENT

END:VCALENDAR
