BEGIN:VCALENDAR
VERSION:2.0
PRODID:-//ChamberMaster//Event Calendar 2.0//EN
METHOD:PUBLISH
X-PUBLISHED-TTL:P3D
REFRESH-INTERVAL:P3D
CALSCALE:GREGORIAN
BEGIN:VEVENT
DTSTART;VALUE=DATE:20151031
DTEND;VALUE=DATE:20151101
TRANSP:TRANSPARENT
X-MICROSOFT-CDO-ALLDAYEVENT:TRUE
SUMMARY:Optimist International Presents Trunk or Treat
DESCRIPTION:Please join Optimist International at Charley Young Park in Downtown Bixby this Halloween for a night of free\, family fun.  The night will include costume contests\, a performance by Dylan Whitney\, and plenty of candy!
X-ALT-DESC;FMTTYPE=text/html:Please join Optimist International at Charley Young Park in Downtown Bixby this Halloween for a night of free\, family fun. &nbsp\;The night will include costume contests\, a performance by Dylan Whitney\, and plenty of candy! &nbsp\;
LOCATION:Charley Young Park 129 W Dawes Ave Bixby\, OK 74008
UID:e.1611.1690
SEQUENCE:3
DTSTAMP:20260419T224139Z
URL:https://portal.bixbychamber.com/events/details/optimist-international-presents-trunk-or-treat-10-31-2015-1690
END:VEVENT

END:VCALENDAR
