BEGIN:VCALENDAR
VERSION:2.0
PRODID:-//ChamberMaster//Event Calendar 2.0//EN
METHOD:PUBLISH
X-PUBLISHED-TTL:P3D
REFRESH-INTERVAL:P3D
CALSCALE:GREGORIAN
BEGIN:VEVENT
DTSTART:20150513T130000Z
DTEND:20150513T170000Z
X-MICROSOFT-CDO-ALLDAYEVENT:FALSE
SUMMARY:Operation Finally Home- "Notes of Love" Home Signing
DESCRIPTION:Operation Finally Home is dedicated to providing custom built homes for America's military hero who have sacrificed so much in the defense of our freedoms and values.\n\n\n\n"Notes of Love" Home Signing\n\n\n\nHave you seen the progress on the Sweger home?\n\n\n\nStop by to write a few words of inspiration on the studs before they get wrapped with dry wall.\n\n\n\nThe Sweger family will review them and feel the love each time they walk into their new home.
X-ALT-DESC;FMTTYPE=text/html:Operation Finally Home is dedicated to providing custom built homes for America&#39\;s military hero who have sacrificed so much in the defense of our freedoms and values.<br />\n<br />\n&quot\;Notes of Love&quot\; Home Signing<br />\n<br />\nHave you seen the progress on the Sweger home?<br />\n<br />\nStop by to write a few words of inspiration on the studs before they get wrapped with dry wall.<br />\n<br />\nThe Sweger family will review them and feel the love each time they walk into their new home.
LOCATION:1956 East 172nd Street Mounds\, OK 74047 Just off 171st Street South\, between Peoria and Lewis.
UID:e.1611.1612
SEQUENCE:3
DTSTAMP:20260420T064642Z
URL:https://portal.bixbychamber.com/events/details/operation-finally-home-notes-of-love-home-signing-05-13-2015-1612
END:VEVENT

END:VCALENDAR
