BEGIN:VCALENDAR
VERSION:2.0
PRODID:-//ChamberMaster//Event Calendar 2.0//EN
METHOD:PUBLISH
X-PUBLISHED-TTL:P3D
REFRESH-INTERVAL:P3D
CALSCALE:GREGORIAN
BEGIN:VEVENT
DTSTART:20160422T210000Z
DTEND:20160422T233000Z
X-MICROSOFT-CDO-ALLDAYEVENT:FALSE
SUMMARY:Open House/Patient Appreciation at Hine Dental
DESCRIPTION:We want to show appreciation to our existing dental patients and celebrate our newest friends! Please bring a friend and join us for appetizers\, cocktails\, and LIVE MUSIC. Door prizes will be given away throughout the evening and a Grand Prize of a 42" Panasonic TV will be given away! (TV Winner will be drawn Monday morning from all attendees.)
X-ALT-DESC;FMTTYPE=text/html:We want to show appreciation to our existing dental patients and celebrate our newest friends! Please bring a friend and join us for appetizers\, cocktails\, and LIVE MUSIC. Door prizes will be given away throughout the evening and a Grand Prize of a 42&quot\; Panasonic TV will be given away! (TV Winner will be drawn Monday morning from all attendees.)
LOCATION:Hine Dental 12345 South Memorial #103 Bixby\, OK 74008
UID:e.1611.3289
SEQUENCE:3
DTSTAMP:20260419T143247Z
URL:https://portal.bixbychamber.com/events/details/open-house-patient-appreciation-at-hine-dental-04-22-2016-3289
END:VEVENT

END:VCALENDAR
