BEGIN:VCALENDAR
VERSION:2.0
PRODID:-//ChamberMaster//Event Calendar 2.0//EN
METHOD:PUBLISH
X-PUBLISHED-TTL:P3D
REFRESH-INTERVAL:P3D
CALSCALE:GREGORIAN
BEGIN:VEVENT
DTSTART:20130418T140000Z
DTEND:20130418T200000Z
X-MICROSOFT-CDO-ALLDAYEVENT:FALSE
SUMMARY:OMC! Presents Business Workshops
DESCRIPTION:Professional Presentation Skills- A 12 hour workshop to learn public speaking and presentation skills in a friendly environment from a professional communicator and educator.
X-ALT-DESC;FMTTYPE=text/html:Professional Presentation Skills- A 12 hour workshop to learn public speaking and presentation skills in a friendly environment from a professional communicator and educator.&nbsp\;
LOCATION:13160 South Memorial Drive Bixby\, Oklahoma 74008
UID:e.1611.575
SEQUENCE:3
DTSTAMP:20260421T151720Z
URL:https://portal.bixbychamber.com/events/details/omc-presents-business-workshops-04-18-2013-575
END:VEVENT

END:VCALENDAR
