BEGIN:VCALENDAR
VERSION:2.0
PRODID:-//ChamberMaster//Event Calendar 2.0//EN
METHOD:PUBLISH
X-PUBLISHED-TTL:P3D
REFRESH-INTERVAL:P3D
CALSCALE:GREGORIAN
BEGIN:VEVENT
DTSTART:20130401T230000Z
DTEND:20130402T020000Z
X-MICROSOFT-CDO-ALLDAYEVENT:FALSE
SUMMARY:OMC! Presents Business Workshops
DESCRIPTION:Marketing and Marketing Research 101\n\n\n\nA five-part workshop to actually give you the knowledge skills and experiece in every area of marketing.
X-ALT-DESC;FMTTYPE=text/html:Marketing and Marketing Research 101<br />\n<br />\nA five-part workshop to actually give you the knowledge skills and&nbsp\;experiece&nbsp\;in every area of marketing.&nbsp\;
LOCATION:13160 South Memorial Drive Bixby\, Oklahoma 74008
UID:e.1611.586
SEQUENCE:3
DTSTAMP:20260421T142315Z
URL:https://portal.bixbychamber.com/events/details/omc-presents-business-workshops-04-01-2013-586
END:VEVENT

END:VCALENDAR
