BEGIN:VCALENDAR
VERSION:2.0
PRODID:-//ChamberMaster//Event Calendar 2.0//EN
METHOD:PUBLISH
X-PUBLISHED-TTL:P3D
REFRESH-INTERVAL:P3D
CALSCALE:GREGORIAN
BEGIN:VEVENT
DTSTART:20151228T160000Z
DTEND:20151229T000000Z
X-MICROSOFT-CDO-ALLDAYEVENT:FALSE
SUMMARY:OKC Thunder and OBI Holiday Blood Drive
DESCRIPTION:***Get a special-edition Thunder themed T-shirt!! ***One Lucky donor will win a pair of lower-level tickets to a Thunder game and a one night hotel stay!! ***Come visit the OG&E Thunderbolt Trailer and get the Thunder experience from 11-2pm!! ***Free Hotdogs and chips!!
X-ALT-DESC;FMTTYPE=text/html:***Get a special-edition Thunder themed T-shirt!! ***One Lucky donor will win a pair of lower-level tickets to a Thunder game and a one night hotel stay!! ***Come visit the OG&amp\;E Thunderbolt Trailer and get the Thunder experience from 11-2pm!! ***Free Hotdogs and chips!!
LOCATION:Tulsa Donor Center 4601 E. 81st Street Tulsa \, OK 74137
UID:e.1611.2730
SEQUENCE:3
DTSTAMP:20260419T194007Z
URL:https://portal.bixbychamber.com/events/details/okc-thunder-and-obi-holiday-blood-drive-12-28-2015-2730
END:VEVENT

END:VCALENDAR
