BEGIN:VCALENDAR
VERSION:2.0
PRODID:-//ChamberMaster//Event Calendar 2.0//EN
METHOD:PUBLISH
X-PUBLISHED-TTL:P3D
REFRESH-INTERVAL:P3D
CALSCALE:GREGORIAN
BEGIN:VEVENT
DTSTART:20160416T013000Z
DTEND:20160416T033000Z
X-MICROSOFT-CDO-ALLDAYEVENT:FALSE
SUMMARY:Movie on the Lawn
DESCRIPTION:Northeastern State University's Student Affairs is set to host its fourth Movie on the Lawn event featuring "Star Wars: The Force Awakens" on April 15 at 8:30 p.m. on the Broken Arrow East Library Lawn. Free popcorn\, drinks and candy will be provided while supplies last and movie fans are encouraged to show up early to claim a good spot on the lawn. While the event is free for students and the community\, donations for the RiverHawks Food Pantry are encouraged.
X-ALT-DESC;FMTTYPE=text/html:Northeastern State University&#39\;s Student Affairs is set to host its fourth Movie on the Lawn event featuring &quot\;Star Wars: The Force Awakens&quot\; on April 15 at 8:30 p.m. on the Broken Arrow East Library Lawn. Free popcorn\, drinks and candy will be provided while supplies last and movie fans are encouraged to show up early to claim a good spot on the lawn. While the event is free for students and the community\, donations for the RiverHawks Food Pantry are encouraged.
LOCATION:3100 E. New Orleans\, Broken Arrow\, OK\, 74014
UID:e.1611.3290
SEQUENCE:3
DTSTAMP:20260419T143026Z
URL:https://portal.bixbychamber.com/events/details/movie-on-the-lawn-04-15-2016-3290
END:VEVENT

END:VCALENDAR
