BEGIN:VCALENDAR
VERSION:2.0
PRODID:-//ChamberMaster//Event Calendar 2.0//EN
METHOD:PUBLISH
X-PUBLISHED-TTL:P3D
REFRESH-INTERVAL:P3D
CALSCALE:GREGORIAN
BEGIN:VEVENT
DTSTART:20160224T160000Z
DTEND:20160224T190000Z
X-MICROSOFT-CDO-ALLDAYEVENT:FALSE
SUMMARY:Military Veteran Only Hiring Event
DESCRIPTION:Employers NEED YOU NOW for careers in:\n\n-Transportation -Education -Healthcare -Sales -Information Technology -Manufacturing -Skilled Trades -Retail -Customer Service -Hospitality\n\n\n\nPrepare now! Bring multiple copies of current resumes\, dress to impress\, and be ready for onsite interviews! \n\n\n\nThis event is co-sponsored by the Oklahoma Employment Security Commission (OESC)\, Workforce Tulsa\, Tulsa Vet Center\, Volunteers of America\, and BRX4VETS. Employer list will be available on February 17th. For more information call 918-796-1220.
X-ALT-DESC;FMTTYPE=text/html:Employers NEED YOU NOW for careers in:<br />\n-Transportation -Education -Healthcare -Sales -Information Technology -Manufacturing -Skilled Trades -Retail -Customer Service -Hospitality<br />\n<br />\nPrepare now! Bring multiple copies of current resumes\, dress to impress\, and be ready for onsite interviews!&nbsp\;<br />\n<br />\nThis event is co-sponsored by the Oklahoma Employment Security Commission (OESC)\, Workforce Tulsa\, Tulsa Vet Center\, Volunteers of America\, and BRX4VETS. Employer list will be available on February 17th. For more information call 918-796-1220.
LOCATION:American Legion Post 1 1120 E. 8th Street Tulsa\, OK 74120
UID:e.1611.3057
SEQUENCE:3
DTSTAMP:20260419T171145Z
URL:https://portal.bixbychamber.com/events/details/military-veteran-only-hiring-event-02-24-2016-3057
END:VEVENT

END:VCALENDAR
