BEGIN:VCALENDAR
VERSION:2.0
PRODID:-//ChamberMaster//Event Calendar 2.0//EN
METHOD:PUBLISH
X-PUBLISHED-TTL:P3D
REFRESH-INTERVAL:P3D
CALSCALE:GREGORIAN
BEGIN:VEVENT
DTSTART:20150520T130000Z
DTEND:20150520T140000Z
X-MICROSOFT-CDO-ALLDAYEVENT:FALSE
SUMMARY:May Engagement Council
DESCRIPTION:You are cordially invited to have coffee with  \n\n			Bixby Metro Chamber Leadership\n\n			as they meet with business partners\n\n			at 8:00 AM on April 8th.\n		\n	\n\n \n\n\n	\n		\n			This is a great opportunity to have your voice heard \n\n			by the Bixby Metro Chamber of Commerce.\n\n			\n\n			Please feel free to share all positives and negatives you have about \n\n			the Chamber\, and help us grow to be the strongest organization we can.
X-ALT-DESC;FMTTYPE=text/html:<table border="0" cellpadding="0" cellspacing="0" style="width:100.0%\;border-collapse:collapse\;" width="100%">\n	<tbody>\n		<tr>\n			<td style="padding:3.75pt 3.75pt 3.75pt 3.75pt\;"><span style="color:black\;"><span style="font-family:arial\,sans-serif\;"><span style="font-size:10.0pt\;">You are cordially invited to have coffee with&nbsp\;&nbsp\;</span></span></span><br />\n			<strong><span style="color:#29ABE2\;"><span style="font-family:arial\,sans-serif\;"><span style="font-size:14.0pt\;">Bixby Metro Chamber Leadership</span></span></span></strong><br />\n			<span style="color:black\;"><span style="font-family:arial\,sans-serif\;"><span style="font-size:10.0pt\;">as they meet with business partners<br />\n			at 8:00 AM on April 8th.</span></span></span></td>\n		</tr>\n	</tbody>\n</table>\n&nbsp\;\n\n<table border="0" cellpadding="0" cellspacing="0" id="content_LETTER.BLOCK15" style="width:100.0%\;border-collapse:collapse\;" width="100%">\n	<tbody>\n		<tr>\n			<td style="padding:3.75pt 3.75pt 3.75pt 3.75pt\;"><span style="color:black\;"><span style="font-family:arial\,sans-serif\;"><span style="font-size:10.0pt\;">This is a great opportunity to have your voice heard&nbsp\;</span></span></span><br />\n			<span style="color:black\;"><span style="font-family:arial\,sans-serif\;"><span style="font-size:10.0pt\;">by the Bixby Metro Chamber of Commerce.<br />\n			<br />\n			Please feel free to share all positives and negatives you have about&nbsp\;</span></span></span><br />\n			<span style="color:black\;"><span style="font-family:arial\,sans-serif\;"><span style="font-size:10.0pt\;">the Chamber\, and help us grow to be the strongest organization we can.</span></span></span>&nbsp\;</td>\n		</tr>\n	</tbody>\n</table>\n
LOCATION:Bixby Metro Chamber of Commerce SpiritBank Event Center Suite 104
UID:e.1611.1602
SEQUENCE:3
DTSTAMP:20260420T064320Z
URL:https://portal.bixbychamber.com/events/details/may-engagement-council-05-20-2015-1602
END:VEVENT

END:VCALENDAR
