BEGIN:VCALENDAR
VERSION:2.0
PRODID:-//ChamberMaster//Event Calendar 2.0//EN
METHOD:PUBLISH
X-PUBLISHED-TTL:P3D
REFRESH-INTERVAL:P3D
CALSCALE:GREGORIAN
BEGIN:VEVENT
DTSTART:20160308T010000Z
DTEND:20160308T040000Z
X-MICROSOFT-CDO-ALLDAYEVENT:FALSE
SUMMARY:Kingpins for Kids!
DESCRIPTION:Strike or spare\, we don't care.\n\nJust bring your team\, and join Operation Aware there!\n\n \n\nYou are invited to bring a TEAM or be a SPONSOR at this important fundraiser for PREVENTION EDUCATION.
X-ALT-DESC;FMTTYPE=text/html:<span style="font-family:times new roman\,serif\;"><span style="font-size:12.0pt\;">Strike or spare\, we don&#39\;t care.<br />\nJust bring your team\, and join Operation Aware there!<br />\n&nbsp\;<br />\nYou are invited to bring a TEAM or be a SPONSOR at this important fundraiser for PREVENTION EDUCATION.</span></span>
LOCATION:Andy B's\, 8711 S. Lewis Ave\, Tulsa.
UID:e.1611.2787
SEQUENCE:3
DTSTAMP:20260419T154954Z
URL:https://portal.bixbychamber.com/events/details/kingpins-for-kids-03-07-2016-2787
END:VEVENT

END:VCALENDAR
