BEGIN:VCALENDAR
VERSION:2.0
PRODID:-//ChamberMaster//Event Calendar 2.0//EN
METHOD:PUBLISH
X-PUBLISHED-TTL:P3D
REFRESH-INTERVAL:P3D
CALSCALE:GREGORIAN
BEGIN:VEVENT
DTSTART:20150717T163000Z
DTEND:20150717T180000Z
X-MICROSOFT-CDO-ALLDAYEVENT:FALSE
SUMMARY:July Lunch at the Chamber
DESCRIPTION:Join us for a networking lunch on the Chamber! Lunch will be provided\, this is a great time to meet even more fellow Chamber Partners.
X-ALT-DESC;FMTTYPE=text/html:<i>Join us for a networking lunch on the Chamber! Lunch will be provided\, this is a great time to meet even more fellow Chamber Partners.&nbsp\;</i>
LOCATION:Bixby Metro Chamber Board Room
UID:e.1611.1502
SEQUENCE:3
DTSTAMP:20260420T022546Z
URL:https://portal.bixbychamber.com/events/details/july-lunch-at-the-chamber-07-17-2015-1502
END:VEVENT

END:VCALENDAR
