BEGIN:VCALENDAR
VERSION:2.0
PRODID:-//ChamberMaster//Event Calendar 2.0//EN
METHOD:PUBLISH
X-PUBLISHED-TTL:P3D
REFRESH-INTERVAL:P3D
CALSCALE:GREGORIAN
BEGIN:VEVENT
DTSTART;VALUE=DATE:20220422
DTEND;VALUE=DATE:20220429
TRANSP:TRANSPARENT
X-MICROSOFT-CDO-ALLDAYEVENT:TRUE
SUMMARY:Invitation to the Bixby High School Career Fair
DESCRIPTION:The 11th and 12th grade students of Bixby High School would like to invite you to their Career Fair on April 28\, 2022.  We have a total of 860 students. At this fair\, we would like you to be prepared to talk to students about:\n\n\n	what you do\;\n	jobs for people without a high school diploma\;\n	jobs for people with a high school diploma\;\n	jobs that require some kind of postsecondary credential\; and\,\n	jobs that require a college degree and the academic majors they pursue.\n\n\n \n\nYou can choose to participate all day\, the morning only\, or just the afternoon. We recommend bringing materials for at least 100 students.\n\n \n\nRegistration: https://admissions.osuit.edu/register/bixbyfair\n\n \n\nWe will also have a Pre-Event Information Session on April 22nd at 9:00 am or 4:00 pm to provide you with the location of exhibitor booths\, time blocks of students coming through\, and answer any questions you may have. Mark April 22nd on your calendar with the time that works for you.  Kelley Rampey will send you a separate email with the zoom link.  Contact Kelley Rampey at krampey@bixbyps.org or call 918-366-1735 should you have any questions.\n\n \n\nPlease accept our gratitude for ensuring our students have the resources to explore career and education options and make informed decisions. We would not be able to meet the ICAP requirements without your continual support.
X-ALT-DESC;FMTTYPE=text/html:<p style="color: rgb(32\, 31\, 30)\; font-size: 11pt\; font-family: Calibri\, sans-serif\; margin: 0px\;"><span style="font-family:arial\;">The 11<sup>th</sup>&nbsp\;and 12<sup>th</sup>&nbsp\;grade students of Bixby High School would like to invite you to their Career Fair on <strong>April 28\, 2022</strong>.&nbsp\; We have a total of 860 students. At this fair\, we would like you to be prepared to talk to students about:</span></p>\n\n<ul style="color: rgb(32\, 31\, 30)\; font-family: &quot\;Segoe UI&quot\;\, &quot\;Segoe UI Web (West European)&quot\;\, &quot\;Segoe UI&quot\;\, -apple-system\, BlinkMacSystemFont\, Roboto\, &quot\;Helvetica Neue&quot\;\, sans-serif\; font-size: 15px\; margin-top: 0px\; margin-bottom: 0px\;" type="disc">\n	<li style="font-size: 11pt\; font-family: Calibri\, sans-serif\; margin: 0px 0px 0px -18pt\;"><span style="font-family:arial\;">what you do\;</span></li>\n	<li style="font-size: 11pt\; font-family: Calibri\, sans-serif\; margin: 0px 0px 0px -18pt\;"><span style="font-family:arial\;">jobs for people without a high school diploma\;</span></li>\n	<li style="font-size: 11pt\; font-family: Calibri\, sans-serif\; margin: 0px 0px 0px -18pt\;"><span style="font-family:arial\;">jobs for people with a high school diploma\;</span></li>\n	<li style="font-size: 11pt\; font-family: Calibri\, sans-serif\; margin: 0px 0px 0px -18pt\;"><span style="font-family:arial\;">jobs that require some kind of postsecondary credential\; and\,</span></li>\n	<li style="font-size: 11pt\; font-family: Calibri\, sans-serif\; margin: 0px 0px 0px -18pt\;"><span style="font-family:arial\;">jobs that require a college degree and the academic majors they pursue.</span></li>\n</ul>\n\n<p aria-hidden="true" style="color: rgb(32\, 31\, 30)\; font-size: 11pt\; font-family: Calibri\, sans-serif\; margin: 0px\;">&nbsp\;</p>\n\n<p style="color: rgb(32\, 31\, 30)\; font-size: 11pt\; font-family: Calibri\, sans-serif\; margin: 0px\;"><span style="font-family:arial\;">You can choose to participate all day\, the morning only\, or just the afternoon. We recommend bringing materials for at least 100 students.</span></p>\n\n<p aria-hidden="true" style="color: rgb(32\, 31\, 30)\; font-size: 11pt\; font-family: Calibri\, sans-serif\; margin: 0px\;">&nbsp\;</p>\n\n<p style="color: rgb(32\, 31\, 30)\; font-size: 11pt\; font-family: Calibri\, sans-serif\; margin: 0px\;"><span style="font-family:arial\;"><b><span style="margin: 0px\; padding: 0px\; border: 0px\; font-style: inherit\; font-variant: inherit\; font-weight: inherit\; font-stretch: inherit\; font-size: 14pt\; line-height: inherit\; vertical-align: baseline\; color: inherit\;">Registration:&nbsp\;<a data-auth="NotApplicable" data-linkindex="0" href="https://nam04.safelinks.protection.outlook.com/?url=https%3A%2F%2Fadmissions.osuit.edu%2Fregister%2Fbixbyfair&amp\;data=04%7C01%7Cina.agnew%40okstate.edu%7Cec86dd30c6354c932f5208da0b5ef4c8%7C2a69c91de8494e34a230cdf8b27e1964%7C0%7C0%7C637834799704590071%7CUnknown%7CTWFpbGZsb3d8eyJWIjoiMC4wLjAwMDAiLCJQIjoiV2luMzIiLCJBTiI6Ik1haWwiLCJXVCI6Mn0%3D%7C3000&amp\;sdata=K1JkPtTjalbFsMLZ8N%2B6H7xyUEC2n8r2CZ950q2X6yg%3D&amp\;reserved=0" rel="noopener noreferrer" style="margin: 0px\; padding: 0px\; border: 0px\; font: inherit\; vertical-align: baseline\;" target="_blank">https://admissions.osuit.edu/register/bixbyfair</a></span></b></span></p>\n\n<p aria-hidden="true" style="color: rgb(32\, 31\, 30)\; font-size: 11pt\; font-family: Calibri\, sans-serif\; margin: 0px\;">&nbsp\;</p>\n\n<p style="color: rgb(32\, 31\, 30)\; font-size: 11pt\; font-family: Calibri\, sans-serif\; margin: 0px\;"><span style="font-family:arial\;">We will also have a Pre-Event Information Session on April 22<sup>nd</sup>&nbsp\;at 9:00 am or 4:00 pm to provide you with the location of exhibitor booths\, time blocks of students coming through\, and answer any questions you may have.&nbsp\;<b>Mark April 22<sup>nd</sup>&nbsp\;on your calendar with the time that works for you</b>. &nbsp\;Kelley Rampey will send you a separate email with the zoom link.&nbsp\; Contact Kelley Rampey at&nbsp\;<a data-auth="NotApplicable" data-linkindex="1" href="mailto:krampey@bixbyps.org" rel="noopener noreferrer" style="margin: 0px\; padding: 0px\; border: 0px\; font: inherit\; vertical-align: baseline\;" target="_blank">krampey@bixbyps.org</a>&nbsp\;or call 918-366-1735 should you have any questions.</span></p>\n\n<p aria-hidden="true" style="color: rgb(32\, 31\, 30)\; font-size: 11pt\; font-family: Calibri\, sans-serif\; margin: 0px\;">&nbsp\;</p>\n\n<p style="color: rgb(32\, 31\, 30)\; font-size: 11pt\; font-family: Calibri\, sans-serif\; margin: 0px\;"><span style="font-family:arial\;">Please accept our gratitude for ensuring our students have the resources to explore career and education options and make informed decisions. We would not be able to meet the ICAP requirements without your continual support.</span></p>\n
LOCATION:Bixby High School 601 S Riverview Dr Bixby\, OK 74008 United States
UID:e.1611.8307
SEQUENCE:3
DTSTAMP:20260421T083302Z
URL:https://portal.bixbychamber.com/events/details/invitation-to-the-bixby-high-school-career-fair-8307
END:VEVENT

END:VCALENDAR
