BEGIN:VCALENDAR
VERSION:2.0
PRODID:-//ChamberMaster//Event Calendar 2.0//EN
METHOD:PUBLISH
X-PUBLISHED-TTL:P3D
REFRESH-INTERVAL:P3D
CALSCALE:GREGORIAN
BEGIN:VEVENT
DTSTART:20230601T163000Z
DTEND:20230601T180000Z
X-MICROSOFT-CDO-ALLDAYEVENT:FALSE
SUMMARY:Green Corn Poster Auction
DESCRIPTION:Come be apart of the Green Corn Poster Auction happening June 1st!
X-ALT-DESC;FMTTYPE=text/html:Come be apart of the Green Corn Poster Auction happening June 1st!&nbsp\;
LOCATION:The Bridge Church 7731 E 119th Drive Bixby\, Ok 74008
UID:e.1611.8782
SEQUENCE:3
DTSTAMP:20260422T104854Z
URL:https://portal.bixbychamber.com/events/details/green-corn-poster-auction-8782
END:VEVENT

END:VCALENDAR
