BEGIN:VCALENDAR
VERSION:2.0
PRODID:-//ChamberMaster//Event Calendar 2.0//EN
METHOD:PUBLISH
X-PUBLISHED-TTL:P3D
REFRESH-INTERVAL:P3D
CALSCALE:GREGORIAN
BEGIN:VEVENT
DTSTART;VALUE=DATE:20230622
DTEND;VALUE=DATE:20230625
TRANSP:TRANSPARENT
X-MICROSOFT-CDO-ALLDAYEVENT:TRUE
SUMMARY:Green Corn Festival
DESCRIPTION:In Bixby\, OK\, the biggest event of the summer is the annual Green Corn Festival. Held in June in downtown Bixby\, it is a true "community celebration" dating back to the area's agricultural heritage. Charley Young Park is the site of on-going live music throughout the festival. The park is surrounded by food and craft booths and is the site of most of the festival's games and contests. Just a hop and skip to the north is the carnival. Cool off during the heat of the day Saturday afternoon by joining in a few games of Bingo at the Bixby Community Center.
X-ALT-DESC;FMTTYPE=text/html:<span style="font-family: Arial\; font-size: 14.4px\;">In Bixby\, OK\, the biggest event of the summer is the annual Green Corn Festival. Held in June in downtown Bixby\, it is a true &ldquo\;community celebration&rdquo\; dating back to the area&rsquo\;s agricultural heritage. Charley Young Park is the site of on-going live music throughout the festival. The park is surrounded by food and craft booths and is the site of most of the festival&rsquo\;s games and contests. Just a hop and skip to the north is the carnival. Cool off during the heat of the day Saturday afternoon by joining in a few games of Bingo at the Bixby Community Center.</span>
LOCATION:Downtown Bixby & Charley Young Event Park 50 W Dawes Bixby\, OK 74008
UID:e.1611.8789
SEQUENCE:3
DTSTAMP:20260422T100011Z
URL:https://portal.bixbychamber.com/events/details/green-corn-festival-8789
END:VEVENT

END:VCALENDAR
