BEGIN:VCALENDAR
VERSION:2.0
PRODID:-//ChamberMaster//Event Calendar 2.0//EN
METHOD:PUBLISH
X-PUBLISHED-TTL:P3D
REFRESH-INTERVAL:P3D
CALSCALE:GREGORIAN
BEGIN:VEVENT
DTSTART:20160131T170000Z
DTEND:20160131T180000Z
X-MICROSOFT-CDO-ALLDAYEVENT:FALSE
SUMMARY:Grand Opening and Ribbon Cutting: Woodlake Church
DESCRIPTION:Woodlake Church is having a grand opening celebration of their new Bixby location! Instead of a weekend focused on us\, we're having a grand opening weekend focused on you. We hope a warm welcome at the door and a friendly place for your kids will make you feel celebrated at Woodlake\, Drop in and let them celebrate you on Saturday\, January 30th at 6:00 PM and Sunday\, January 31st at 11:00 AM.
X-ALT-DESC;FMTTYPE=text/html:Woodlake Church is having a grand opening celebration of their new Bixby location! Instead of a weekend focused on us\, we&#39\;re having a grand opening weekend focused on you. We hope a warm welcome at the door and a friendly place for your kids will make you feel celebrated at Woodlake\, Drop in and let them celebrate you on Saturday\, January 30th&nbsp\;at 6:00 PM&nbsp\;and Sunday\, January 31st at 11:00 AM.
LOCATION:Woodlake Church 10440 South Mingo Tulsa\, OK 74133
UID:e.1611.2778
SEQUENCE:3
DTSTAMP:20260419T183459Z
URL:https://portal.bixbychamber.com/events/details/grand-opening-and-ribbon-cutting-woodlake-church-01-31-2016-2778
END:VEVENT

END:VCALENDAR
