BEGIN:VCALENDAR
VERSION:2.0
PRODID:-//ChamberMaster//Event Calendar 2.0//EN
METHOD:PUBLISH
X-PUBLISHED-TTL:P3D
REFRESH-INTERVAL:P3D
CALSCALE:GREGORIAN
BEGIN:VEVENT
DTSTART:20151208T140000Z
DTEND:20151208T150000Z
X-MICROSOFT-CDO-ALLDAYEVENT:FALSE
SUMMARY:Government Affairs Committee
DESCRIPTION:This committee provides leadership to the partnership and community in influencing governmental policies at local and state levels in order to promote community interests\, transportation\, infrastructure\, education and business development. They assist in facilitating communication with our state and federal delegation through hosting functions as well as attending regional events such as Tulsa Regional Day at the Capitol and an annual Washington DC Fly-In.
X-ALT-DESC;FMTTYPE=text/html:<span style="line-height: 20.8px\;">This committee provides leadership to the partnership and community in influencing governmental policies at local and state levels in order to promote community interests\, transportation\, infrastructure\, education and business development. They assist in facilitating communication with our state and federal delegation through hosting functions as well as attending regional events such as Tulsa Regional Day at the Capitol and an annual Washington DC Fly-In.</span>
LOCATION:Bixby Metro Chamber of Commerce Board Room 10441 South Regal Boulevard Suite 104 Tulsa\, OK 74133
UID:e.1611.1695
SEQUENCE:3
DTSTAMP:20260419T210747Z
URL:https://portal.bixbychamber.com/events/details/government-affairs-committee-12-08-2015-1695
END:VEVENT

END:VCALENDAR
