BEGIN:VCALENDAR
VERSION:2.0
PRODID:-//ChamberMaster//Event Calendar 2.0//EN
METHOD:PUBLISH
X-PUBLISHED-TTL:P3D
REFRESH-INTERVAL:P3D
CALSCALE:GREGORIAN
BEGIN:VEVENT
DTSTART:20151221T150000Z
DTEND:20151224T180000Z
X-MICROSOFT-CDO-ALLDAYEVENT:FALSE
SUMMARY:Free Chiropractic Adjustment w/ Toy Donation!!!
DESCRIPTION:Bring a new\, unwrapped toy to Dr. Andrea's Chiropractic and Spinal Decompression and receive a free chiropractic adjustment!!!! All toys will be donated to Bixby Outreach Center
X-ALT-DESC;FMTTYPE=text/html:Bring a new\, unwrapped toy to Dr. Andrea&#39\;s Chiropractic and Spinal Decompression and receive a free chiropractic adjustment!!!! All toys will be donated to Bixby Outreach Center
LOCATION:Dr. Andrea's Chiropractic & Spinal Decompression 8222 East 103rd St Suite 123 Tulsa\, OK 74133
UID:e.1611.2731
SEQUENCE:3
DTSTAMP:20260419T193920Z
URL:https://portal.bixbychamber.com/events/details/free-chiropractic-adjustment-w-toy-donation-12-21-2015-2731
END:VEVENT

END:VCALENDAR
