BEGIN:VCALENDAR
VERSION:2.0
PRODID:-//ChamberMaster//Event Calendar 2.0//EN
METHOD:PUBLISH
X-PUBLISHED-TTL:P3D
REFRESH-INTERVAL:P3D
CALSCALE:GREGORIAN
BEGIN:VEVENT
DTSTART:20151216T163000Z
DTEND:20151216T180000Z
X-MICROSOFT-CDO-ALLDAYEVENT:FALSE
SUMMARY:Forest Hills- Holiday Open House and Barista Bash
DESCRIPTION:Forest Hills looks forward to celebrating the end of a wonderful year with all of those that have supported them.\n\nAttendees will get a chance to enjoy free samples and  pick up last minute Christmas gifts!
X-ALT-DESC;FMTTYPE=text/html:<span style="color:#680000\;"><span style="font-family:lucida calligraphy\;"><span style="font-size:20.0pt\;">Forest Hills looks forward to celebrating the end of a wonderful year with all of those that have supported them.</span></span></span><br />\n<span style="color:#680000\;"><span style="font-family:lucida calligraphy\;"><span style="font-size:20.0pt\;">Attendees will get a chance to enjoy free samples and&nbsp\; pick up last minute Christmas gifts!</span></span></span>
LOCATION:4304 West Houston Street Broken Arrow\, OK 74008
UID:e.1611.2721
SEQUENCE:3
DTSTAMP:20260419T194005Z
URL:https://portal.bixbychamber.com/events/details/forest-hills-holiday-open-house-and-barista-bash-12-16-2015-2721
END:VEVENT

END:VCALENDAR
