BEGIN:VCALENDAR
VERSION:2.0
PRODID:-//ChamberMaster//Event Calendar 2.0//EN
METHOD:PUBLISH
X-PUBLISHED-TTL:P3D
REFRESH-INTERVAL:P3D
CALSCALE:GREGORIAN
BEGIN:VEVENT
DTSTART:20160612T210000Z
DTEND:20160612T230000Z
X-MICROSOFT-CDO-ALLDAYEVENT:FALSE
SUMMARY:Family Fun Day- SouthPoint Church
DESCRIPTION:SouthPoint Church would like to invite you to join us for a Family Fun Day.
X-ALT-DESC;FMTTYPE=text/html:SouthPoint Church would like to invite you to join us for a Family Fun Day.
LOCATION:13164 South Memorial Drive Bixby\, OK 74008
UID:e.1611.3359
SEQUENCE:3
DTSTAMP:20260419T120147Z
URL:https://portal.bixbychamber.com/events/details/family-fun-day-southpoint-church-06-12-2016-3359
END:VEVENT

END:VCALENDAR
