BEGIN:VCALENDAR
VERSION:2.0
PRODID:-//ChamberMaster//Event Calendar 2.0//EN
METHOD:PUBLISH
X-PUBLISHED-TTL:P3D
REFRESH-INTERVAL:P3D
CALSCALE:GREGORIAN
BEGIN:VEVENT
DTSTART:20160209T210000Z
DTEND:20160209T223000Z
X-MICROSOFT-CDO-ALLDAYEVENT:FALSE
SUMMARY:ENGAGE! Social Media 101 for Business Owners
DESCRIPTION:Event Description\n\n\n\n\nThis FREE seminar will introduce business owners to fundamenal but vital concepts and principles that will help you engage current and new customers!
X-ALT-DESC;FMTTYPE=text/html:<h2 class="is-hidden-accessible" style="margin: 0px\; padding: 0px\; position: absolute\; left: -999999px\; color: rgb(102\, 106\, 115)\; font-family: 'Benton Sans'\, 'Helvetica Neue'\, Helvetica\, Roboto\, Arial\, sans-serif\; letter-spacing: 0.5px\; line-height: 22px\;">Event Description</h2>\n\n<div class="has-user-generated-content js-d-read-more read-more js-read-more read-more--medium-down read-more--expanded" data-xd-wired="read-more" dorsal-guid="e0bb9857-9d35-664a-3575-7b3830c53a23" style="margin: 0px\; padding: 0px\; color: rgb(102\, 106\, 115)\; font-family: 'Benton Sans'\, 'Helvetica Neue'\, Helvetica\, Roboto\, Arial\, sans-serif\; font-size: 15px\; letter-spacing: 0.5px\; line-height: 22px\;">\n<div class="js-xd-read-more-toggle-view read-more__toggle-view" style="margin: 0px\; padding: 0px\; overflow: hidden\; position: relative\;">\n<div class="js-xd-read-more-contents l-block-3" itemprop="description" style="margin: 15px 0px 0px\; padding: 0px\;">\n<p style="margin: 0px\; padding: 0px\;">This FREE seminar will introduce business owners to fundamenal but vital concepts and principles that will help you engage current and new customers!&nbsp\;</p>\n</div>\n</div>\n</div>\n
LOCATION:Bixby Metro Chamber of Commerce - 10441 South Regal Blvd Tulsa\, OK 74133
UID:e.1611.3062
SEQUENCE:3
DTSTAMP:20260419T171258Z
URL:https://portal.bixbychamber.com/events/details/engage-social-media-101-for-business-owners-02-09-2016-3062
END:VEVENT

END:VCALENDAR
